BEGIN:VCALENDAR
VERSION:2.0
PRODID:-//Squarespace Inc/Squarespace 6//v6//EN
BEGIN:VEVENT
UID:52ec2943e4b07e4a6ee0cdfa@squarespace.com
DTSTAMP:20140131T225332Z
DTSTART:20140318T053000Z
DTEND:20140318T070000Z
SUMMARY:Yoga
END:VEVENT
END:VCALENDAR
