BEGIN:VCALENDAR
VERSION:2.0
PRODID:-//Squarespace Inc/Squarespace 6//v6//EN
BEGIN:VEVENT
UID:52ec2845e4b0644432d9fc0c@squarespace.com
DTSTAMP:20140131T224935Z
DTSTART:20140301T213000Z
DTEND:20140301T230000Z
SUMMARY:Yoga
END:VEVENT
END:VCALENDAR
