BEGIN:VCALENDAR
VERSION:2.0
PRODID:-//Squarespace Inc/Squarespace 6//v6//EN
BEGIN:VEVENT
UID:52e2de68e4b0da74938cc755@squarespace.com
DTSTAMP:20140124T214327Z
DTSTART:20140320T030000Z
DTEND:20140320T043000Z
SUMMARY:Who in the world am I?
END:VEVENT
END:VCALENDAR
