BEGIN:VCALENDAR
VERSION:2.0
PRODID:-//Squarespace Inc/Squarespace 6//v6//EN
BEGIN:VEVENT
UID:52e2dc51e4b0a6559fdf6900@squarespace.com
DTSTAMP:20140124T213424Z
DTSTART:20140321T210000Z
DTEND:20140321T223000Z
SUMMARY:Kids Drawing & Painting Class
END:VEVENT
END:VCALENDAR
