BEGIN:VCALENDAR
VERSION:2.0
PRODID:-//Squarespace Inc/Squarespace 6//v6//EN
BEGIN:VEVENT
UID:52ec28bfe4b07e4a6ee0cce9@squarespace.com
DTSTAMP:20140131T225049Z
DTSTART:20140322T213000Z
DTEND:20140322T230000Z
SUMMARY:Yoga
END:VEVENT
END:VCALENDAR
