BEGIN:VCALENDAR
VERSION:2.0
PRODID:-//Squarespace Inc/Squarespace 6//v6//EN
BEGIN:VEVENT
UID:52ec2991e4b073d49e3216d3@squarespace.com
DTSTAMP:20140131T225419Z
DTSTART:20140325T053000Z
DTEND:20140325T070000Z
SUMMARY:Yoga
END:VEVENT
END:VCALENDAR
