BEGIN:VCALENDAR
VERSION:2.0
PRODID:-//Squarespace Inc/Squarespace 6//v6//EN
BEGIN:VEVENT
UID:52ec28dae4b07e4a6ee0cd2e@squarespace.com
DTSTAMP:20140131T225112Z
DTSTART:20140329T213000Z
DTEND:20140329T230000Z
SUMMARY:Yoga
END:VEVENT
END:VCALENDAR
