BEGIN:VCALENDAR
VERSION:2.0
PRODID:-//Squarespace Inc/Squarespace 6//v6//EN
BEGIN:VEVENT
UID:52ec2906e4b07e4a6ee0cd75@squarespace.com
DTSTAMP:20140131T225204Z
DTSTART:20140304T053000Z
DTEND:20140304T070000Z
SUMMARY:Yoga
END:VEVENT
END:VCALENDAR
