BEGIN:VCALENDAR
VERSION:2.0
PRODID:-//Squarespace Inc/Squarespace 6//v6//EN
BEGIN:VEVENT
UID:52e2dd93e4b05e3f872e8ea6@squarespace.com
DTSTAMP:20140124T214125Z
DTSTART:20140306T030000Z
DTEND:20140306T043000Z
SUMMARY:Who in the world am I?
END:VEVENT
END:VCALENDAR
