BEGIN:VCALENDAR
VERSION:2.0
PRODID:-//Squarespace Inc/Squarespace 6//v6//EN
BEGIN:VEVENT
UID:52ec29e5e4b01c78dd6890fa@squarespace.com
DTSTAMP:20140131T225801Z
DTSTART:20140307T060000Z
DTEND:20140307T070000Z
SUMMARY:R & R Meeting
END:VEVENT
END:VCALENDAR
