BEGIN:VCALENDAR
VERSION:2.0
PRODID:-//Squarespace Inc/Squarespace 6//v6//EN
BEGIN:VEVENT
UID:52e2dc00e4b09261a16ac76f@squarespace.com
DTSTAMP:20140124T213304Z
DTSTART:20140307T210000Z
DTEND:20140307T223000Z
SUMMARY:Kids Drawing & Painting Class
END:VEVENT
END:VCALENDAR
