BEGIN:VCALENDAR
VERSION:2.0
PRODID:-//Squarespace Inc/Squarespace 6//v6//EN
BEGIN:VEVENT
UID:52ec2890e4b07e4a6ee0cc61@squarespace.com
DTSTAMP:20140131T225003Z
DTSTART:20140308T213000Z
DTEND:20140308T230000Z
SUMMARY:Yoga
END:VEVENT
END:VCALENDAR
