BEGIN:VCALENDAR
VERSION:2.0
PRODID:-//Squarespace Inc/Squarespace 6//v6//EN
BEGIN:VEVENT
UID:53254876e4b05fc1fc6f05aa@squarespace.com
DTSTAMP:20140316T064524Z
DTSTART:20140410T010000Z
DTEND:20140410T040000Z
SUMMARY:Indoor Bowls
END:VEVENT
END:VCALENDAR
