BEGIN:VCALENDAR
VERSION:2.0
PRODID:-//Squarespace Inc/Squarespace 6//v6//EN
BEGIN:VEVENT
UID:532547bbe4b0eeecbb672732@squarespace.com
DTSTAMP:20140316T064219Z
DTSTART:20140412T223000Z
DTEND:20140413T000000Z
SUMMARY:Yoga
END:VEVENT
END:VCALENDAR
