BEGIN:VCALENDAR
VERSION:2.0
PRODID:-//Squarespace Inc/Squarespace 6//v6//EN
BEGIN:VEVENT
UID:532547dde4b0eeecbb672741@squarespace.com
DTSTAMP:20140316T064253Z
DTSTART:20140419T223000Z
DTEND:20140420T000000Z
SUMMARY:Yoga
END:VEVENT
END:VCALENDAR
