BEGIN:VCALENDAR
VERSION:2.0
PRODID:-//Squarespace Inc/Squarespace 6//v6//EN
BEGIN:VEVENT
UID:532548c0e4b028bc910c7546@squarespace.com
DTSTAMP:20140316T064632Z
DTSTART:20140424T010000Z
DTEND:20140424T040000Z
SUMMARY:Indoor Bowls
END:VEVENT
END:VCALENDAR
