BEGIN:VCALENDAR
VERSION:2.0
PRODID:-//Squarespace Inc/Squarespace 6//v6//EN
BEGIN:VEVENT
UID:53254821e4b0eeecbb672759@squarespace.com
DTSTAMP:20140316T064421Z
DTSTART:20140403T000000Z
DTEND:20140403T030000Z
SUMMARY:Indoor Bowls
END:VEVENT
END:VCALENDAR
