BEGIN:VCALENDAR
VERSION:2.0
PRODID:-//Squarespace Inc/Squarespace 6//v6//EN
BEGIN:VEVENT
UID:52ec2a8ae4b0aed2062192bd@squarespace.com
DTSTAMP:20140131T225824Z
DTSTART:20140404T060000Z
DTEND:20140404T070000Z
SUMMARY:R & R Meeting
END:VEVENT
END:VCALENDAR
