BEGIN:VCALENDAR
VERSION:2.0
PRODID:-//Squarespace Inc/Squarespace 6//v6//EN
BEGIN:VEVENT
UID:53254799e4b0eeecbb672725@squarespace.com
DTSTAMP:20140316T064145Z
DTSTART:20140405T223000Z
DTEND:20140406T000000Z
SUMMARY:Yoga
END:VEVENT
END:VCALENDAR
