BEGIN:VCALENDAR
VERSION:2.0
PRODID:-//Squarespace Inc/Squarespace 6//v6//EN
BEGIN:VEVENT
UID:52ec2a9fe4b0aed2062192f3@squarespace.com
DTSTAMP:20140131T225842Z
DTSTART:20140502T070000Z
DTEND:20140502T080000Z
SUMMARY:R & R Meeting
END:VEVENT
END:VCALENDAR
