BEGIN:VCALENDAR
VERSION:2.0
PRODID:-//Squarespace Inc/Squarespace 6//v6//EN
BEGIN:VEVENT
UID:53865a68e4b0e85986369aa5@squarespace.com
DTSTAMP:20140528T215201Z
DTSTART:20140610T063000Z
DTEND:20140610T080000Z
SUMMARY:Yoga 
END:VEVENT
END:VCALENDAR
