BEGIN:VCALENDAR
VERSION:2.0
PRODID:-//Squarespace Inc/Squarespace 6//v6//EN
BEGIN:VEVENT
UID:53865b23e4b0e85986369bb0@squarespace.com
DTSTAMP:20140528T215458Z
DTSTART:20140612T010000Z
DTEND:20140612T040000Z
SUMMARY:Indoor Bowls
END:VEVENT
END:VCALENDAR
