BEGIN:VCALENDAR
VERSION:2.0
PRODID:-//Squarespace Inc/Squarespace 6//v6//EN
BEGIN:VEVENT
UID:5386597ae4b049f01fefc4ea@squarespace.com
DTSTAMP:20140528T214804Z
DTSTART:20140614T223000Z
DTEND:20140615T000000Z
SUMMARY:Yoga 
END:VEVENT
END:VCALENDAR
