BEGIN:VCALENDAR
VERSION:2.0
PRODID:-//Squarespace Inc/Squarespace 6//v6//EN
BEGIN:VEVENT
UID:53865a9ee4b0053888f2f648@squarespace.com
DTSTAMP:20140528T215259Z
DTSTART:20140617T063000Z
DTEND:20140617T080000Z
SUMMARY:Yoga 
END:VEVENT
END:VCALENDAR
