BEGIN:VCALENDAR
VERSION:2.0
PRODID:-//Squarespace Inc/Squarespace 6//v6//EN
BEGIN:VEVENT
UID:53a0bbbfe4b06eb49784f889@squarespace.com
DTSTAMP:20140617T220601Z
DTSTART:20140618T063000Z
DTEND:20140618T073000Z
SUMMARY:Beach Fit
END:VEVENT
END:VCALENDAR
