BEGIN:VCALENDAR
VERSION:2.0
PRODID:-//Squarespace Inc/Squarespace 6//v6//EN
BEGIN:VEVENT
UID:53865b38e4b0e85986369bc2@squarespace.com
DTSTAMP:20140528T215616Z
DTSTART:20140619T010000Z
DTEND:20140619T040000Z
SUMMARY:Indoor Bowls
END:VEVENT
END:VCALENDAR
