BEGIN:VCALENDAR
VERSION:2.0
PRODID:-//Squarespace Inc/Squarespace 6//v6//EN
BEGIN:VEVENT
UID:53a0da58e4b080549e5eed61@squarespace.com
DTSTAMP:20140618T001639Z
DTSTART:20140620T013000Z
DTEND:20140620T030000Z
SUMMARY:Tai Chi
END:VEVENT
END:VCALENDAR
