BEGIN:VCALENDAR
VERSION:2.0
PRODID:-//Squarespace Inc/Squarespace 6//v6//EN
BEGIN:VEVENT
UID:538659f4e4b05226db21ba5b@squarespace.com
DTSTAMP:20140528T215001Z
DTSTART:20140621T223000Z
DTEND:20140622T000000Z
SUMMARY:Yoga 
END:VEVENT
END:VCALENDAR
