BEGIN:VCALENDAR
VERSION:2.0
PRODID:-//Squarespace Inc/Squarespace 6//v6//EN
BEGIN:VEVENT
UID:53a0ba22e4b03f568ef7bd7c@squarespace.com
DTSTAMP:20140617T220216Z
DTSTART:20140623T063000Z
DTEND:20140623T073000Z
SUMMARY:Beach Fit
END:VEVENT
END:VCALENDAR
