BEGIN:VCALENDAR
VERSION:2.0
PRODID:-//Squarespace Inc/Squarespace 6//v6//EN
BEGIN:VEVENT
UID:53a0b770e4b037955eb2af96@squarespace.com
DTSTAMP:20140617T215344Z
DTSTART:20140623T041500Z
DTEND:20140623T053000Z
SUMMARY:Warrior Kids
END:VEVENT
END:VCALENDAR
