BEGIN:VCALENDAR
VERSION:2.0
PRODID:-//Squarespace Inc/Squarespace 6//v6//EN
BEGIN:VEVENT
UID:53a0c698e4b05bbc2dc74e90@squarespace.com
DTSTAMP:20140617T225552Z
DTSTART:20140624T013000Z
DTEND:20140624T030000Z
SUMMARY:Tai Chi
END:VEVENT
END:VCALENDAR
