BEGIN:VCALENDAR
VERSION:2.0
PRODID:-//Squarespace Inc/Squarespace 6//v6//EN
BEGIN:VEVENT
UID:53865ac3e4b09ebc9e37f577@squarespace.com
DTSTAMP:20140528T215335Z
DTSTART:20140624T063000Z
DTEND:20140624T080000Z
SUMMARY:Yoga 
END:VEVENT
END:VCALENDAR
