BEGIN:VCALENDAR
VERSION:2.0
PRODID:-//Squarespace Inc/Squarespace 6//v6//EN
BEGIN:VEVENT
UID:53a0bbd3e4b06eb49784f8c8@squarespace.com
DTSTAMP:20140617T220619Z
DTSTART:20140625T063000Z
DTEND:20140625T073000Z
SUMMARY:Beach Fit
END:VEVENT
END:VCALENDAR
