BEGIN:VCALENDAR
VERSION:2.0
PRODID:-//Squarespace Inc/Squarespace 6//v6//EN
BEGIN:VEVENT
UID:53a0da70e4b080549e5eed92@squarespace.com
DTSTAMP:20140618T001707Z
DTSTART:20140627T013000Z
DTEND:20140627T030000Z
SUMMARY:Tai Chi
END:VEVENT
END:VCALENDAR
