BEGIN:VCALENDAR
VERSION:2.0
PRODID:-//Squarespace Inc/Squarespace 6//v6//EN
BEGIN:VEVENT
UID:53865998e4b0f6a71c874ab8@squarespace.com
DTSTAMP:20140528T214918Z
DTSTART:20140628T223000Z
DTEND:20140629T000000Z
SUMMARY:Yoga 
END:VEVENT
END:VCALENDAR
