BEGIN:VCALENDAR
VERSION:2.0
PRODID:-//Squarespace Inc/Squarespace 6//v6//EN
BEGIN:VEVENT
UID:53865a33e4b0bd6d13725c90@squarespace.com
DTSTAMP:20140528T215130Z
DTSTART:20140603T063000Z
DTEND:20140603T080000Z
SUMMARY:Yoga 
END:VEVENT
END:VCALENDAR
