BEGIN:VCALENDAR
VERSION:2.0
PRODID:-//Squarespace Inc/Squarespace 6//v6//EN
BEGIN:VEVENT
UID:53a0baf2e4b03f568ef7bef7@squarespace.com
DTSTAMP:20140617T220237Z
DTSTART:20140630T063000Z
DTEND:20140630T073000Z
SUMMARY:Beach Fit
END:VEVENT
END:VCALENDAR
