BEGIN:VCALENDAR
VERSION:2.0
PRODID:-//Squarespace Inc/Squarespace 6//v6//EN
BEGIN:VEVENT
UID:53a0b8aae4b0c572de410440@squarespace.com
DTSTAMP:20140617T215317Z
DTSTART:20140630T041500Z
DTEND:20140630T053000Z
SUMMARY:Warrior Kids
END:VEVENT
END:VCALENDAR
