BEGIN:VCALENDAR
VERSION:2.0
PRODID:-//Squarespace Inc/Squarespace 6//v6//EN
BEGIN:VEVENT
UID:53865b05e4b08610fe274b5b@squarespace.com
DTSTAMP:20140528T215434Z
DTSTART:20140605T010000Z
DTEND:20140605T040000Z
SUMMARY:Indoor Bowls
END:VEVENT
END:VCALENDAR
