BEGIN:VCALENDAR
VERSION:2.0
PRODID:-//Squarespace Inc/Squarespace 6//v6//EN
BEGIN:VEVENT
UID:538658c9e4b08c5a2ebd1ffc@squarespace.com
DTSTAMP:20140528T214540Z
DTSTART:20140606T070000Z
DTEND:20140606T080000Z
SUMMARY:R & R Meeting
END:VEVENT
END:VCALENDAR
