BEGIN:VCALENDAR
VERSION:2.0
PRODID:-//Squarespace Inc/Squarespace 6//v6//EN
BEGIN:VEVENT
UID:53865949e4b0d9893f4136db@squarespace.com
DTSTAMP:20140528T214733Z
DTSTART:20140607T223000Z
DTEND:20140608T000000Z
SUMMARY:Yoga 
END:VEVENT
END:VCALENDAR
