BEGIN:VCALENDAR
VERSION:2.0
PRODID:-//Squarespace Inc/Squarespace 6//v6//EN
BEGIN:VEVENT
UID:53a0c44be4b037955eb2c64b@squarespace.com
DTSTAMP:20140617T224315Z
DTSTART:20140701T063000Z
DTEND:20140701T080000Z
SUMMARY:Yoga
END:VEVENT
END:VCALENDAR
