BEGIN:VCALENDAR
VERSION:2.0
PRODID:-//Squarespace Inc/Squarespace 6//v6//EN
BEGIN:VEVENT
UID:53a0bbe5e4b06eb49784f8f5@squarespace.com
DTSTAMP:20140617T220639Z
DTSTART:20140702T063000Z
DTEND:20140702T073000Z
SUMMARY:Beach Fit
END:VEVENT
END:VCALENDAR
