BEGIN:VCALENDAR
VERSION:2.0
PRODID:-//Squarespace Inc/Squarespace 6//v6//EN
BEGIN:VEVENT
UID:53a0c5a3e4b0ba2ac7928e39@squarespace.com
DTSTAMP:20140617T224847Z
DTSTART:20140703T010000Z
DTEND:20140703T040000Z
SUMMARY:Indoor Bowls
END:VEVENT
END:VCALENDAR
