BEGIN:VCALENDAR
VERSION:2.0
PRODID:-//Squarespace Inc/Squarespace 6//v6//EN
BEGIN:VEVENT
UID:53a0bcafe4b014ec3a93a78f@squarespace.com
DTSTAMP:20140617T221052Z
DTSTART:20140704T070000Z
DTEND:20140704T080000Z
SUMMARY:R & R Meeting
END:VEVENT
END:VCALENDAR
