BEGIN:VCALENDAR
VERSION:2.0
PRODID:-//Squarespace Inc/Squarespace 6//v6//EN
BEGIN:VEVENT
UID:53a0c519e4b06eb497850c7b@squarespace.com
DTSTAMP:20140617T224603Z
DTSTART:20140705T223000Z
DTEND:20140706T000000Z
SUMMARY:Yoga 
END:VEVENT
END:VCALENDAR
