BEGIN:VCALENDAR
VERSION:2.0
PRODID:-//Squarespace Inc/Squarespace 6//v6//EN
BEGIN:VEVENT
UID:53a0bb06e4b03f568ef7bf22@squarespace.com
DTSTAMP:20140617T220321Z
DTSTART:20140707T063000Z
DTEND:20140707T073000Z
SUMMARY:Beach Fit
END:VEVENT
END:VCALENDAR
