BEGIN:VCALENDAR
VERSION:2.0
PRODID:-//Squarespace Inc/Squarespace 6//v6//EN
BEGIN:VEVENT
UID:53a0b8f2e4b0c572de4104e3@squarespace.com
DTSTAMP:20140617T215437Z
DTSTART:20140707T041500Z
DTEND:20140707T053000Z
SUMMARY:Warrior Kids
END:VEVENT
END:VCALENDAR
